BEGIN:VCALENDAR
VERSION:2.0
PRODID:-//AIA Central Idaho - ECPv6.15.20//NONSGML v1.0//EN
CALSCALE:GREGORIAN
METHOD:PUBLISH
X-WR-CALNAME:AIA Central Idaho
X-ORIGINAL-URL:https://aiacentralidaho.org
X-WR-CALDESC:Events for AIA Central Idaho
REFRESH-INTERVAL;VALUE=DURATION:PT1H
X-Robots-Tag:noindex
X-PUBLISHED-TTL:PT1H
BEGIN:VTIMEZONE
TZID:America/Boise
BEGIN:DAYLIGHT
TZOFFSETFROM:-0700
TZOFFSETTO:-0600
TZNAME:MDT
DTSTART:20250309T090000
END:DAYLIGHT
BEGIN:STANDARD
TZOFFSETFROM:-0600
TZOFFSETTO:-0700
TZNAME:MST
DTSTART:20251102T080000
END:STANDARD
BEGIN:DAYLIGHT
TZOFFSETFROM:-0700
TZOFFSETTO:-0600
TZNAME:MDT
DTSTART:20260308T090000
END:DAYLIGHT
BEGIN:STANDARD
TZOFFSETFROM:-0600
TZOFFSETTO:-0700
TZNAME:MST
DTSTART:20261101T080000
END:STANDARD
BEGIN:DAYLIGHT
TZOFFSETFROM:-0700
TZOFFSETTO:-0600
TZNAME:MDT
DTSTART:20270314T090000
END:DAYLIGHT
BEGIN:STANDARD
TZOFFSETFROM:-0600
TZOFFSETTO:-0700
TZNAME:MST
DTSTART:20271107T080000
END:STANDARD
END:VTIMEZONE
BEGIN:VEVENT
DTSTART;TZID=America/Boise:20260421T120000
DTEND;TZID=America/Boise:20260421T133000
DTSTAMP:20260421T015814
CREATED:20260401T183738Z
LAST-MODIFIED:20260401T183738Z
UID:513-1776772800-1776778200@aiacentralidaho.org
SUMMARY:AIA Central Idaho April Luncheon Presentation
DESCRIPTION:Join us this month for a discussion on craft. As Architizer puts it\, artificial intelligence\, automation and algorithmic design promise to “disrupt” everything – from how buildings are drawn to how they are permitted\, built and managed. In response\, architects are feeling pressured to be faster\, cheaper and more efficient than ever before. Hear from your peers on how they navigate this complex design environment and how we can maintain our craft in this modern setting. We’ll explore how design ideas are translated into built form\, the opportunities provided by emerging technologies\, and how decisions are made with care at every scale.
URL:https://aiacentralidaho.org/event/aia-central-idaho-april-luncheon-presentation/
LOCATION:Beside Bardenay\, 612 W. Grove Street\, Boise\, ID\, 837002\, United States
CATEGORIES:Upcoming Event
END:VEVENT
END:VCALENDAR